BEGIN:VCALENDAR
VERSION:2.0
PRODID:-//concrete5/calendar//NONSGML v8.3.2//EN
BEGIN:VEVENT
UID:20260422T143000-42596@www.abbyyouth.com/
DTSTAMP:1776774613
DTSTART:20260422T143000
DTEND:20260422T163000
SUMMARY:ARC Drop-In
DESCRIPTION:<![CDATA[Hours: 2:30-4:30
]]>
END:VEVENT
END:VCALENDAR